BEGIN:VCALENDAR
VERSION:2.0
PRODID:-//Alamance County Beekeepers - ECPv6.15.20//NONSGML v1.0//EN
CALSCALE:GREGORIAN
METHOD:PUBLISH
X-ORIGINAL-URL:https://www.alamancebeekeepers.org
X-WR-CALDESC:Events for Alamance County Beekeepers
REFRESH-INTERVAL;VALUE=DURATION:PT1H
X-Robots-Tag:noindex
X-PUBLISHED-TTL:PT1H
BEGIN:VTIMEZONE
TZID:America/New_York
BEGIN:DAYLIGHT
TZOFFSETFROM:-0500
TZOFFSETTO:-0400
TZNAME:EDT
DTSTART:20250309T070000
END:DAYLIGHT
BEGIN:STANDARD
TZOFFSETFROM:-0400
TZOFFSETTO:-0500
TZNAME:EST
DTSTART:20251102T060000
END:STANDARD
BEGIN:DAYLIGHT
TZOFFSETFROM:-0500
TZOFFSETTO:-0400
TZNAME:EDT
DTSTART:20260308T070000
END:DAYLIGHT
BEGIN:STANDARD
TZOFFSETFROM:-0400
TZOFFSETTO:-0500
TZNAME:EST
DTSTART:20261101T060000
END:STANDARD
BEGIN:DAYLIGHT
TZOFFSETFROM:-0500
TZOFFSETTO:-0400
TZNAME:EDT
DTSTART:20270314T070000
END:DAYLIGHT
BEGIN:STANDARD
TZOFFSETFROM:-0400
TZOFFSETTO:-0500
TZNAME:EST
DTSTART:20271107T060000
END:STANDARD
END:VTIMEZONE
BEGIN:VEVENT
DTSTART;TZID=America/New_York:20260516T100000
DTEND;TZID=America/New_York:20260516T140000
DTSTAMP:20260419T093124
CREATED:20251213T190333Z
LAST-MODIFIED:20251213T190333Z
UID:12183-1778925600-1778940000@www.alamancebeekeepers.org
SUMMARY:Field Day
DESCRIPTION:Join us for our annual field day.
URL:https://www.alamancebeekeepers.org/event/field-day/
LOCATION:Ira’s Apiary
CATEGORIES:ACB Meeting
END:VEVENT
BEGIN:VEVENT
DTSTART;TZID=America/New_York:20260521T190000
DTEND;TZID=America/New_York:20260521T203000
DTSTAMP:20260419T093124
CREATED:20251213T190022Z
LAST-MODIFIED:20251213T190649Z
UID:12179-1779390000-1779395400@www.alamancebeekeepers.org
SUMMARY:Microscopy in Beekeeping
DESCRIPTION:Join us for our monthly meeting as Valerie Pallatto and Don Hopkins bring some microscopes and lead us through their use in apiculture.
URL:https://www.alamancebeekeepers.org/event/microscopy-in-beekeeping/
LOCATION:Alamance County Center\, 209-C\, N Graham Hopedale Rd\, Burlington\, 27217\, United States
CATEGORIES:ACB Meeting
END:VEVENT
END:VCALENDAR